BEGIN:VCALENDAR
VERSION:2.0
PRODID:-//Tukios.com/
BEGIN:VEVENT
UID:bef120f5-9277-4573-a071-bc105aa1f81f@obituaries.cedarhillfuneralhome.com
DTSTAMP:20260420T211702Z
DTSTART:20260504T150000Z
DTEND:20260504T160000Z
SUMMARY:Funeral Service
DESCRIPTION:
URL:https://obituaries.cedarhillfuneralhome.com/obituaries/stephen-mayes
LOCATION: 4111 Pennsylvania Ave  Suitland MD 20746
GEO:38.8607362;-76.9398195
END:VEVENT
END:VCALENDAR