BEGIN:VCALENDAR
VERSION:2.0
PRODID:-//Tukios.com/
BEGIN:VEVENT
UID:f2357eae-c893-46cd-8990-07e6386709d9@obituaries.cedarhillfuneralhome.com
DTSTAMP:20260420T211444Z
DTSTART:20260504T140000Z
DTEND:20260504T150000Z
SUMMARY:Viewing
DESCRIPTION:
URL:https://obituaries.cedarhillfuneralhome.com/obituaries/stephen-mayes
LOCATION: 4111 Pennsylvania Ave.  Hillcrest Heights MD 20746
GEO:38.8598387;-76.9404534
END:VEVENT
END:VCALENDAR