BEGIN:VCALENDAR
VERSION:2.0
PRODID:-//Tukios.com/
BEGIN:VEVENT
UID:e4552adc-3b1b-49da-9cf1-dbe1985fe7f9@obituaries.cedarhillfuneralhome.com
DTSTAMP:20260425T003331Z
DTSTART:20260502T140000Z
DTEND:20260502T160000Z
SUMMARY:Funeral Service
DESCRIPTION:
URL:https://obituaries.cedarhillfuneralhome.com/obituaries/nixon-alcaide
LOCATION: 4111 Pennsylvania Ave  Suitland MD 20746
GEO:38.8607362;-76.9398195
END:VEVENT
END:VCALENDAR