BEGIN:VCALENDAR
VERSION:2.0
PRODID:-//Tukios.com/
BEGIN:VEVENT
UID:f6257715-7e04-4948-a995-3ad3c4d90169@obituaries.cedarhillfuneralhome.com
DTSTAMP:20260425T002856Z
DTSTART:20260502T120000Z
DTEND:20260502T140000Z
SUMMARY:Visitation
DESCRIPTION:
URL:https://obituaries.cedarhillfuneralhome.com/obituaries/nixon-alcaide
LOCATION: 4111 Pennsylvania Ave  Suitland MD 20746
GEO:38.8607362;-76.9398195
END:VEVENT
END:VCALENDAR