BEGIN:VCALENDAR
VERSION:2.0
PRODID:-//Tukios.com/
BEGIN:VEVENT
UID:25b6ced3-7971-4d97-8c08-e6a4b2547161@obituaries.cedarhillfuneralhome.com
DTSTAMP:20260425T004336Z
DTSTART:20260501T140000Z
DTEND:20260501T150000Z
SUMMARY:Visitation
DESCRIPTION:
URL:https://obituaries.cedarhillfuneralhome.com/obituaries/mary-francis
LOCATION:Cedar Hill Funeral Home 4111 Pennsylvania Ave.  Hillcrest 
	Heights MD 20746
GEO:38.8607362;-76.9398195
END:VEVENT
END:VCALENDAR