BEGIN:VCALENDAR
VERSION:2.0
PRODID:-//Tukios.com/
BEGIN:VEVENT
UID:176b765f-7c31-4567-a59a-2fe31b262333@obituaries.cedarhillfuneralhome.com
DTSTAMP:20260425T004325Z
DTSTART:20260501T150000Z
DTEND:20260501T160000Z
SUMMARY:Celebration of Life
DESCRIPTION:
URL:https://obituaries.cedarhillfuneralhome.com/obituaries/mary-francis
LOCATION:Cedar Hill Funeral Home 4111 Pennsylvania Ave.  Hillcrest 
	Heights MD 20746
GEO:38.8607362;-76.9398195
END:VEVENT
END:VCALENDAR