BEGIN:VCALENDAR
VERSION:2.0
PRODID:-//Tukios.com/
BEGIN:VEVENT
UID:90fb35bc-83f8-4410-b3b5-12168494718f@obituaries.cedarhillfuneralhome.com
DTSTAMP:20260422T230512Z
DTSTART:20260521
SUMMARY:Interment
DESCRIPTION:
URL:https://obituaries.cedarhillfuneralhome.com/obituaries/corey-fersner
LOCATION: 4111 Pennsylvania Avenue  Suitland MD 20746
GEO:38.859076;-76.941704
END:VEVENT
END:VCALENDAR