BEGIN:VCALENDAR
VERSION:2.0
PRODID:-//Tukios.com/
BEGIN:VEVENT
UID:779c83d8-d1c2-422a-adb8-25758d1e6167@obituaries.cedarhillfuneralhome.com
DTSTAMP:20260422T230110Z
DTSTART:20260521T140000Z
DTEND:20260521T150000Z
SUMMARY:Visitation
DESCRIPTION:
URL:https://obituaries.cedarhillfuneralhome.com/obituaries/corey-fersner
LOCATION: 4111 Pennsylvania Ave.  Hillcrest Heights MD 20746
GEO:38.8607362;-76.9398195
END:VEVENT
END:VCALENDAR