BEGIN:VCALENDAR
VERSION:2.0
PRODID:-//Tukios.com/
BEGIN:VEVENT
UID:7cb2a4e6-2c92-429b-98a7-ce08dcf1be88@obituaries.cedarhillfuneralhome.com
DTSTAMP:20260422T230411Z
DTSTART:20260521T150000Z
DTEND:20260521T160000Z
SUMMARY:Celebration of Life
DESCRIPTION:
URL:https://obituaries.cedarhillfuneralhome.com/obituaries/corey-fersner
LOCATION: 4111 Pennsylvania Ave.  Hillcrest Heights MD 20746
GEO:38.8607362;-76.9398195
END:VEVENT
END:VCALENDAR