BEGIN:VCALENDAR
VERSION:2.0
PRODID:-//Tukios.com/
BEGIN:VEVENT
UID:98eeb09f-9c19-489b-a0c7-8fb9cd404a67@obituaries.cedarhillfuneralhome.com
DTSTAMP:20260421T175059Z
DTSTART:20260515
SUMMARY:Interment
DESCRIPTION:
URL:https://obituaries.cedarhillfuneralhome.com/obituaries/chauncey-hall
LOCATION: 4001 Suitland Road  Suitland MD 20746
GEO:38.8555737;-76.9486214
END:VEVENT
END:VCALENDAR