BEGIN:VCALENDAR
VERSION:2.0
PRODID:-//Tukios.com/
BEGIN:VEVENT
UID:422b967a-547e-4730-9daa-23242384345b@obituaries.cedarhillfuneralhome.com
DTSTAMP:20260421T174534Z
DTSTART:20260515T140000Z
DTEND:20260515T150000Z
SUMMARY:Visitation
DESCRIPTION:
URL:https://obituaries.cedarhillfuneralhome.com/obituaries/chauncey-hall
LOCATION:The Temple of Praise 700 Southern Avenue Southeast  Washington 
	DC 20032
GEO:38.8260875;-76.9961333
END:VEVENT
END:VCALENDAR