BEGIN:VCALENDAR
VERSION:2.0
PRODID:-//Tukios.com/
BEGIN:VEVENT
UID:59bfb168-db82-4496-b8dc-ee5de7d0041b@obituaries.cedarhillfuneralhome.com
DTSTAMP:20260421T174827Z
DTSTART:20260515T150000Z
DTEND:20260515T160000Z
SUMMARY:Celebration of Life
DESCRIPTION:
URL:https://obituaries.cedarhillfuneralhome.com/obituaries/chauncey-hall
LOCATION:Temple of Praise Church 700 Southern Avenue Southeast  
	Washington DC 20032
GEO:38.8260875;-76.9961333
END:VEVENT
END:VCALENDAR