BEGIN:VCALENDAR
VERSION:2.0
PRODID:-//Tukios.com/
BEGIN:VEVENT
UID:756e587c-7ce6-4766-98fb-d8abd835b3bf@obituaries.cedarhillfuneralhome.com
DTSTAMP:20260422T200840Z
DTSTART:20260509
SUMMARY:Burial
DESCRIPTION:
URL:https://obituaries.cedarhillfuneralhome.com/obituaries/arthur-wooden
LOCATION: 4111 Pennsylvania Avenue  Suitland MD 20746
GEO:38.859076;-76.941704
END:VEVENT
END:VCALENDAR