BEGIN:VCALENDAR
VERSION:2.0
PRODID:-//Tukios.com/
BEGIN:VEVENT
UID:fa808557-9035-41a7-9ed8-761ccddc840f@obituaries.cedarhillfuneralhome.com
DTSTAMP:20260422T200602Z
DTSTART:20260509T150000Z
DTEND:20260509T160000Z
SUMMARY:Funeral Service
DESCRIPTION:
URL:https://obituaries.cedarhillfuneralhome.com/obituaries/arthur-wooden
LOCATION: 4111 Pennsylvania Ave  Suitland MD 20746
GEO:38.8607362;-76.9398195
END:VEVENT
END:VCALENDAR