BEGIN:VCALENDAR
VERSION:2.0
PRODID:-//Tukios.com/
BEGIN:VEVENT
UID:5bce6307-11f0-4ba4-ab36-3dc6ad1a3bd3@obituaries.cedarhillfuneralhome.com
DTSTAMP:20260422T200737Z
DTSTART:20260509T140000Z
DTEND:20260509T150000Z
SUMMARY:Visitation
DESCRIPTION:
URL:https://obituaries.cedarhillfuneralhome.com/obituaries/arthur-wooden
LOCATION: 4111 Pennsylvania Ave  Suitland MD 20746
GEO:38.8607362;-76.9398195
END:VEVENT
END:VCALENDAR